BEGIN:VCALENDAR
VERSION:2.0
PRODID:-//Welcome - ECPv6.15.20//NONSGML v1.0//EN
CALSCALE:GREGORIAN
METHOD:PUBLISH
X-WR-CALNAME:Welcome
X-ORIGINAL-URL:https://drugfreeac.org
X-WR-CALDESC:Events for Welcome
REFRESH-INTERVAL;VALUE=DURATION:PT1H
X-Robots-Tag:noindex
X-PUBLISHED-TTL:PT1H
BEGIN:VTIMEZONE
TZID:America/Chicago
BEGIN:DAYLIGHT
TZOFFSETFROM:-0600
TZOFFSETTO:-0500
TZNAME:CDT
DTSTART:20250309T080000
END:DAYLIGHT
BEGIN:STANDARD
TZOFFSETFROM:-0500
TZOFFSETTO:-0600
TZNAME:CST
DTSTART:20251102T070000
END:STANDARD
BEGIN:DAYLIGHT
TZOFFSETFROM:-0600
TZOFFSETTO:-0500
TZNAME:CDT
DTSTART:20260308T080000
END:DAYLIGHT
BEGIN:STANDARD
TZOFFSETFROM:-0500
TZOFFSETTO:-0600
TZNAME:CST
DTSTART:20261101T070000
END:STANDARD
BEGIN:DAYLIGHT
TZOFFSETFROM:-0600
TZOFFSETTO:-0500
TZNAME:CDT
DTSTART:20270314T080000
END:DAYLIGHT
BEGIN:STANDARD
TZOFFSETFROM:-0500
TZOFFSETTO:-0600
TZNAME:CST
DTSTART:20271107T070000
END:STANDARD
END:VTIMEZONE
BEGIN:VEVENT
DTSTART;TZID=America/Chicago:20260113T120000
DTEND;TZID=America/Chicago:20260113T130000
DTSTAMP:20260423T142326
CREATED:20251229T204329Z
LAST-MODIFIED:20260108T210227Z
UID:1412-1768305600-1768309200@drugfreeac.org
SUMMARY:Drug Free Ashley County Coalition Monthly Meeting
DESCRIPTION:The regularly scheduled monthly meeting for January will be held on January 13\, 2026 at 12:00 noon in the Hamburg School District Conference Room. \nInvite Link:  https://us06web.zoom.us/j/86806378211?pwd=8o7M5EhYgMtBTHDuTzYQJY3Y4biCGm.1 \n 
URL:https://drugfreeac.org/event/drug-free-ashley-county-monthly-meeting/
LOCATION:Hamburg School Distrit Offices\, 202 E Parker St.\, Hamburg\, AR\, United States
END:VEVENT
END:VCALENDAR