BEGIN:VCALENDAR
VERSION:2.0
PRODID:-//Welcome - ECPv6.15.20//NONSGML v1.0//EN
CALSCALE:GREGORIAN
METHOD:PUBLISH
X-ORIGINAL-URL:https://drugfreeac.org
X-WR-CALDESC:Events for Welcome
REFRESH-INTERVAL;VALUE=DURATION:PT1H
X-Robots-Tag:noindex
X-PUBLISHED-TTL:PT1H
BEGIN:VTIMEZONE
TZID:America/Chicago
BEGIN:DAYLIGHT
TZOFFSETFROM:-0600
TZOFFSETTO:-0500
TZNAME:CDT
DTSTART:20240310T080000
END:DAYLIGHT
BEGIN:STANDARD
TZOFFSETFROM:-0500
TZOFFSETTO:-0600
TZNAME:CST
DTSTART:20241103T070000
END:STANDARD
BEGIN:DAYLIGHT
TZOFFSETFROM:-0600
TZOFFSETTO:-0500
TZNAME:CDT
DTSTART:20250309T080000
END:DAYLIGHT
BEGIN:STANDARD
TZOFFSETFROM:-0500
TZOFFSETTO:-0600
TZNAME:CST
DTSTART:20251102T070000
END:STANDARD
BEGIN:DAYLIGHT
TZOFFSETFROM:-0600
TZOFFSETTO:-0500
TZNAME:CDT
DTSTART:20260308T080000
END:DAYLIGHT
BEGIN:STANDARD
TZOFFSETFROM:-0500
TZOFFSETTO:-0600
TZNAME:CST
DTSTART:20261101T070000
END:STANDARD
END:VTIMEZONE
BEGIN:VEVENT
DTSTART;TZID=America/Chicago:20251111T120000
DTEND;TZID=America/Chicago:20251111T130000
DTSTAMP:20260423T172814
CREATED:20250110T032513Z
LAST-MODIFIED:20251107T221018Z
UID:1045-1762862400-1762866000@drugfreeac.org
SUMMARY:Monthly Drug Free Ashley County Coalition Meeting
DESCRIPTION:Hello D-FAC Members and prospective members\,\nIn recognition of Veteran’s Day\, our meeting program will include comments from MAJ Adam Bussmann\, a service member with the Arkansas Army National Guard who recently returned from an extended overseas assignment.  We greatly respect and appreciate all service members\, veterans\, and their family members. \n\n\n\nAs we alternate our meetings between Hamburg and Crossett\, the Tuesday\, November 11 meeting will be at noon at the E. C. Crossett Youth Center\, 300 North Dr. Martin L. King Drive\, Crossett.  \nSince this is a one-hour noon meeting\, we will have a light lunch of chili dogs\, chips\, cookies/brownies\, and a beverage.  WE NEED A HEADCOUNT\, SO PLEASE RSVP no later than noon on MONDAY\, November 10 to this email address.\nIf possible\, be prepared to donate $5 for the cost of the lunch and beverages since our federal grant does not allow for purchasing food for meetings.  We hope to have some of our Crossett School District Prevention Leadership students in attendance\, so of course\, we want them to be able to eat at no cost.\nWe’d love to have you join us in person at 12 pm NOON or by Zoom if your schedule won’t allow Face-2-Face this time.  \n\n\n\n\n\nTopic: Drug Free Ashley County Coalition Meeting\nTime: Nov 11\, 2025 12:00 PM Central Time (US and Canada)\nEvery month on the Second Tuesday\, until Dec 8\, 2026 \nJoin Zoom Meeting\nhttps://us06web.zoom.us/j/86806378211?pwd=8o7M5EhYgMtBTHDuTzYQJY3Y4biCGm.1 \nMeeting ID: 868 0637 8211\nPasscode: 273991
URL:https://drugfreeac.org/event/monthly-drug-free-ashley-county-coalition-meeting-21/
LOCATION:EC Crossett Youth Center\, 300 Dr. Martin Luther King Dr\, Crossett\, AR\, 71635\, United States
END:VEVENT
BEGIN:VEVENT
DTSTART;TZID=America/Chicago:20251119T110000
DTEND;TZID=America/Chicago:20251119T130000
DTSTAMP:20260423T172814
CREATED:20251117T171938Z
LAST-MODIFIED:20251117T172237Z
UID:1311-1763550000-1763557200@drugfreeac.org
SUMMARY:American Legion Lunch Fundraiser
DESCRIPTION:The Drug Free Ashley County supports the American Legion. \nFundraiser for the American Legion Post 111\, 807 Main Street\, Crossett.  Click on this link for the flyer. \nMenu:  Mashed potatoes with gravy\, green beans\, a roll\, peach cobbler and a drink. \n$15 Donation.  Thanks for your support … You keep our doors open! \nDine in or carry out.  Delivery available.  To place an order (870) 500-7866 or (870) 500-0915. \n~Our food service facility is state-licensed and inspected.~ \n 
URL:https://drugfreeac.org/event/american-legion-lunch-fundraiser/
LOCATION:AR
END:VEVENT
END:VCALENDAR