BEGIN:VCALENDAR
VERSION:2.0
PRODID:-//Welcome - ECPv6.15.20//NONSGML v1.0//EN
CALSCALE:GREGORIAN
METHOD:PUBLISH
X-WR-CALNAME:Welcome
X-ORIGINAL-URL:https://drugfreeac.org
X-WR-CALDESC:Events for Welcome
REFRESH-INTERVAL;VALUE=DURATION:PT1H
X-Robots-Tag:noindex
X-PUBLISHED-TTL:PT1H
BEGIN:VTIMEZONE
TZID:America/Chicago
BEGIN:DAYLIGHT
TZOFFSETFROM:-0600
TZOFFSETTO:-0500
TZNAME:CDT
DTSTART:20240310T080000
END:DAYLIGHT
BEGIN:STANDARD
TZOFFSETFROM:-0500
TZOFFSETTO:-0600
TZNAME:CST
DTSTART:20241103T070000
END:STANDARD
BEGIN:DAYLIGHT
TZOFFSETFROM:-0600
TZOFFSETTO:-0500
TZNAME:CDT
DTSTART:20250309T080000
END:DAYLIGHT
BEGIN:STANDARD
TZOFFSETFROM:-0500
TZOFFSETTO:-0600
TZNAME:CST
DTSTART:20251102T070000
END:STANDARD
BEGIN:DAYLIGHT
TZOFFSETFROM:-0600
TZOFFSETTO:-0500
TZNAME:CDT
DTSTART:20260308T080000
END:DAYLIGHT
BEGIN:STANDARD
TZOFFSETFROM:-0500
TZOFFSETTO:-0600
TZNAME:CST
DTSTART:20261101T070000
END:STANDARD
END:VTIMEZONE
BEGIN:VEVENT
DTSTART;VALUE=DATE:20250510
DTEND;VALUE=DATE:20250511
DTSTAMP:20260424T015000
CREATED:20250423T222836Z
LAST-MODIFIED:20250423T222836Z
UID:1196-1746835200-1746921599@drugfreeac.org
SUMMARY:Spring Celebration
DESCRIPTION:Spring Celebration \nLocation:  Crossett Youth Center \n3rd Street & Dr. Martin Luther King\, Jr. Boulevard
URL:https://drugfreeac.org/event/spring-celebration/
LOCATION:AR
END:VEVENT
BEGIN:VEVENT
DTSTART;TZID=America/Chicago:20250513T160000
DTEND;TZID=America/Chicago:20250513T170000
DTSTAMP:20260424T015000
CREATED:20250110T031654Z
LAST-MODIFIED:20250110T031654Z
UID:1033-1747152000-1747155600@drugfreeac.org
SUMMARY:Monthly Drug Free Ashley County Coalition Meeting
DESCRIPTION:Regular monthly meeting of the Drug Free Ashley County Coalition to be  held at the UAM College of Technology-Crossett. \nWe’d love to have you join us in person at UAM-CTC\, 1326 Highway 52W\, or by Zoom if your schedule won’t allow F2F this time. \n\n\n\nJoin Zoom Meeting\nhttps://us06web.zoom.us/j/89808049173?pwd=psDfKtsuEoG8u72dNM0rM6w7seKr9h.1\n\nMeeting ID: 898 0804 9173\nPasscode: 822924\n\nOne tap mobile\n+13462487799\,\,89808049173#\,\,\,\,*822924# US (Houston)\n+16694449171\,\,89808049173#\,\,\,\,*822924# US\n\n—\n\nDial by your location\n• +1 346 248 7799 US (Houston)\n• +1 669 444 9171 US\n• +1 719 359 4580 US\n• +1 720 707 2699 US (Denver)\n• +1 253 205 0468 US\n• +1 253 215 8782 US (Tacoma)\n• +1 360 209 5623 US\n• +1 386 347 5053 US\n• +1 507 473 4847 US\n• +1 564 217 2000 US\n• +1 646 558 8656 US (New York)\n• +1 646 931 3860 US\n• +1 689 278 1000 US\n• +1 301 715 8592 US (Washington DC)\n• +1 305 224 1968 US\n• +1 309 205 3325 US\n• +1 312 626 6799 US (Chicago)\n\nMeeting ID: 898 0804 9173\nPasscode: 822924\n\nFind your local number: https://us06web.zoom.us/u/kcE5sYJZ0l
URL:https://drugfreeac.org/event/monthly-drug-free-ashley-county-coalition-meeting-15/
LOCATION:UAM College of Technology-Crossett\, 1326 State Highway 52 West\, Crossett\, 71635\, United States
END:VEVENT
BEGIN:VEVENT
DTSTART;TZID=America/Chicago:20250515T090000
DTEND;TZID=America/Chicago:20250515T160000
DTSTAMP:20260424T015000
CREATED:20250423T223407Z
LAST-MODIFIED:20250423T223407Z
UID:1198-1747299600-1747324800@drugfreeac.org
SUMMARY:Domestic Violence and Substance Abuse Prevention Conference
DESCRIPTION:Domestic Violence and Substance Abuse Prevention Conference \n9 a.m. – 4 p.m.\, \nCrossett Community Building \n105 West 2nd \nTo register\, contact Phoenix Youth & Family Services at 870-364-1676\nor email kdavis@phoenixyouth.com or apugh@phoenixyouth.com
URL:https://drugfreeac.org/event/domestic-violence-and-substance-abuse-prevention-conference/
LOCATION:AR
END:VEVENT
END:VCALENDAR