BEGIN:VCALENDAR
VERSION:2.0
PRODID:-//Welcome - ECPv6.15.20//NONSGML v1.0//EN
CALSCALE:GREGORIAN
METHOD:PUBLISH
X-WR-CALNAME:Welcome
X-ORIGINAL-URL:https://drugfreeac.org
X-WR-CALDESC:Events for Welcome
REFRESH-INTERVAL;VALUE=DURATION:PT1H
X-Robots-Tag:noindex
X-PUBLISHED-TTL:PT1H
BEGIN:VTIMEZONE
TZID:America/Chicago
BEGIN:DAYLIGHT
TZOFFSETFROM:-0600
TZOFFSETTO:-0500
TZNAME:CDT
DTSTART:20240310T080000
END:DAYLIGHT
BEGIN:STANDARD
TZOFFSETFROM:-0500
TZOFFSETTO:-0600
TZNAME:CST
DTSTART:20241103T070000
END:STANDARD
BEGIN:DAYLIGHT
TZOFFSETFROM:-0600
TZOFFSETTO:-0500
TZNAME:CDT
DTSTART:20250309T080000
END:DAYLIGHT
BEGIN:STANDARD
TZOFFSETFROM:-0500
TZOFFSETTO:-0600
TZNAME:CST
DTSTART:20251102T070000
END:STANDARD
BEGIN:DAYLIGHT
TZOFFSETFROM:-0600
TZOFFSETTO:-0500
TZNAME:CDT
DTSTART:20260308T080000
END:DAYLIGHT
BEGIN:STANDARD
TZOFFSETFROM:-0500
TZOFFSETTO:-0600
TZNAME:CST
DTSTART:20261101T070000
END:STANDARD
END:VTIMEZONE
BEGIN:VEVENT
DTSTART;TZID=America/Chicago:20250211T160000
DTEND;TZID=America/Chicago:20250211T170000
DTSTAMP:20260424T062606
CREATED:20250110T030732Z
LAST-MODIFIED:20250210T032802Z
UID:1027-1739289600-1739293200@drugfreeac.org
SUMMARY:Monthly Drug Free Ashley County Coalition Meeting
DESCRIPTION:Regular monthly meeting of the Drug Free Ashley County Coalition to be  held at the UAM College of Technology-Crossett. \nOn behalf of the Youth-Serving Organizations Sector\, Dr. Lula Williams and her colleagues from Family Development Enterprise\, Inc. will bring the program.  They will share information on their TEEN EMPOWERMENT WORKSHOPS that are available for Ashley County youth.\n\nFind more information at their website:  https://letstalkoffline.org/about-us/\n(And on the attached flyer- LOVE the title:  Let’s Talk Offline)\n\nWe’d love to have you join us in person at UAM-CTC\, 1326 Highway 52W\, or by Zoom if your schedule won’t allow F2F this time. \n\n\n\nJoin Zoom Meeting\nhttps://us06web.zoom.us/j/89808049173?pwd=psDfKtsuEoG8u72dNM0rM6w7seKr9h.1\n\nMeeting ID: 898 0804 9173\nPasscode: 822924\n\nOne tap mobile\n+13462487799\,\,89808049173#\,\,\,\,*822924# US (Houston)\n+16694449171\,\,89808049173#\,\,\,\,*822924# US\n\n—\n\nDial by your location\n• +1 346 248 7799 US (Houston)\n• +1 669 444 9171 US\n• +1 719 359 4580 US\n• +1 720 707 2699 US (Denver)\n• +1 253 205 0468 US\n• +1 253 215 8782 US (Tacoma)\n• +1 360 209 5623 US\n• +1 386 347 5053 US\n• +1 507 473 4847 US\n• +1 564 217 2000 US\n• +1 646 558 8656 US (New York)\n• +1 646 931 3860 US\n• +1 689 278 1000 US\n• +1 301 715 8592 US (Washington DC)\n• +1 305 224 1968 US\n• +1 309 205 3325 US\n• +1 312 626 6799 US (Chicago)\n\nMeeting ID: 898 0804 9173\nPasscode: 822924\n\nFind your local number: https://us06web.zoom.us/u/kcE5sYJZ0l
URL:https://drugfreeac.org/event/monthly-drug-free-ashley-county-coalition-meeting-12/
LOCATION:UAM College of Technology-Crossett\, 1326 State Highway 52 West\, Crossett\, 71635\, United States
END:VEVENT
BEGIN:VEVENT
DTSTART;VALUE=DATE:20250217
DTEND;VALUE=DATE:20250218
DTSTAMP:20260424T062606
CREATED:20250218T002342Z
LAST-MODIFIED:20250218T002342Z
UID:1138-1739750400-1739836799@drugfreeac.org
SUMMARY:Homeless by Choice
DESCRIPTION:Ray Reynosa will address Hamburg High School and Crossett High School students during his Homeless by Choice Tour 2025  (see information at:  https://rayreynosa.com)
URL:https://drugfreeac.org/event/homeless-by-choice/
LOCATION:AR
END:VEVENT
BEGIN:VEVENT
DTSTART;TZID=America/Chicago:20250227T120000
DTEND;TZID=America/Chicago:20250227T130000
DTSTAMP:20260424T062606
CREATED:20250218T001914Z
LAST-MODIFIED:20250218T001914Z
UID:1135-1740657600-1740661200@drugfreeac.org
SUMMARY:Presentation to Crossett Rotary Club
DESCRIPTION:Chairman Eric Shoffner will give an update on D-FAC to the Crossett Rotary Club.  The meeting will be in the back room of Fiesta Linda.  Everyone is welcome to attend.
URL:https://drugfreeac.org/event/presentation-to-crossett-rotary-club/
LOCATION:Fiesta Linda\, 1500 Dr Martin Luther King\, Jr. Dr\, Crossett\, AR\, 71635\, United States
END:VEVENT
END:VCALENDAR