BEGIN:VCALENDAR
VERSION:2.0
PRODID:-//Welcome - ECPv6.15.20//NONSGML v1.0//EN
CALSCALE:GREGORIAN
METHOD:PUBLISH
X-WR-CALNAME:Welcome
X-ORIGINAL-URL:https://drugfreeac.org
X-WR-CALDESC:Events for Welcome
REFRESH-INTERVAL;VALUE=DURATION:PT1H
X-Robots-Tag:noindex
X-PUBLISHED-TTL:PT1H
BEGIN:VTIMEZONE
TZID:America/Chicago
BEGIN:DAYLIGHT
TZOFFSETFROM:-0600
TZOFFSETTO:-0500
TZNAME:CDT
DTSTART:20230312T080000
END:DAYLIGHT
BEGIN:STANDARD
TZOFFSETFROM:-0500
TZOFFSETTO:-0600
TZNAME:CST
DTSTART:20231105T070000
END:STANDARD
BEGIN:DAYLIGHT
TZOFFSETFROM:-0600
TZOFFSETTO:-0500
TZNAME:CDT
DTSTART:20240310T080000
END:DAYLIGHT
BEGIN:STANDARD
TZOFFSETFROM:-0500
TZOFFSETTO:-0600
TZNAME:CST
DTSTART:20241103T070000
END:STANDARD
BEGIN:DAYLIGHT
TZOFFSETFROM:-0600
TZOFFSETTO:-0500
TZNAME:CDT
DTSTART:20250309T080000
END:DAYLIGHT
BEGIN:STANDARD
TZOFFSETFROM:-0500
TZOFFSETTO:-0600
TZNAME:CST
DTSTART:20251102T070000
END:STANDARD
END:VTIMEZONE
BEGIN:VEVENT
DTSTART;TZID=America/Chicago:20241112T160000
DTEND;TZID=America/Chicago:20241112T170000
DTSTAMP:20260424T105006
CREATED:20231218T233756Z
LAST-MODIFIED:20241112T194720Z
UID:670-1731427200-1731430800@drugfreeac.org
SUMMARY:Monthly Drug Free Ashley County Coalition Meeting
DESCRIPTION:Regular monthly meeting of the Drug Free Ashley County Coalition to be  held at the UAM College of Technology-Crossett. \nThe Drug-Free Ashley County Coalition is inviting you to our November 12 meeting.  We look forward to a presentation from from the AR National Guard Counterdrug Unit Program Coordinator\, MSgt Joshua Adams. \nWe’d love to have you join us in person at UAM-CTC\, 1326 Highway 52W\, or by Zoom if your schedule won’t allow F2F this time.  \n\n\n\n\n\n\n\n\n\n\nTime: November 12\, 4:00 PM Central Time (US and Canada)\n\nJoin Zoom Meeting\nhttps://us06web.zoom.us/j/89808049173?pwd=psDfKtsuEoG8u72dNM0rM6w7seKr9h.1\n\nMeeting ID: 898 0804 9173\nPasscode: 822924
URL:https://drugfreeac.org/event/monthly-drug-free-ashley-county-coalition-meeting-7/
LOCATION:UAM College of Technology-Crossett\, 1326 State Highway 52 West\, Crossett\, 71635\, United States
END:VEVENT
END:VCALENDAR