BEGIN:VCALENDAR
VERSION:2.0
PRODID:-//Welcome - ECPv6.15.20//NONSGML v1.0//EN
CALSCALE:GREGORIAN
METHOD:PUBLISH
X-ORIGINAL-URL:https://drugfreeac.org
X-WR-CALDESC:Events for Welcome
REFRESH-INTERVAL;VALUE=DURATION:PT1H
X-Robots-Tag:noindex
X-PUBLISHED-TTL:PT1H
BEGIN:VTIMEZONE
TZID:America/Chicago
BEGIN:DAYLIGHT
TZOFFSETFROM:-0600
TZOFFSETTO:-0500
TZNAME:CDT
DTSTART:20230312T080000
END:DAYLIGHT
BEGIN:STANDARD
TZOFFSETFROM:-0500
TZOFFSETTO:-0600
TZNAME:CST
DTSTART:20231105T070000
END:STANDARD
BEGIN:DAYLIGHT
TZOFFSETFROM:-0600
TZOFFSETTO:-0500
TZNAME:CDT
DTSTART:20240310T080000
END:DAYLIGHT
BEGIN:STANDARD
TZOFFSETFROM:-0500
TZOFFSETTO:-0600
TZNAME:CST
DTSTART:20241103T070000
END:STANDARD
BEGIN:DAYLIGHT
TZOFFSETFROM:-0600
TZOFFSETTO:-0500
TZNAME:CDT
DTSTART:20250309T080000
END:DAYLIGHT
BEGIN:STANDARD
TZOFFSETFROM:-0500
TZOFFSETTO:-0600
TZNAME:CST
DTSTART:20251102T070000
END:STANDARD
END:VTIMEZONE
BEGIN:VEVENT
DTSTART;TZID=America/Chicago:20240709T160000
DTEND;TZID=America/Chicago:20240709T170000
DTSTAMP:20260424T163946
CREATED:20231218T231921Z
LAST-MODIFIED:20240706T201103Z
UID:656-1720540800-1720544400@drugfreeac.org
SUMMARY:Monthly Drug Free Ashley County Coalition Meeting
DESCRIPTION:Regular monthly meeting of the Drug Free Ashley County Coalition to be  held at the UAM College of Technology-Crossett. \nOur July program will be by Ronnie Donaldson\, our Faith-Based Sector Leader.  He will share his experiences on the challenges of working with individuals who are trying to break free from addiction to drugs or alcohol. \nMeeting Agenda – July 9\, 2024 \nDrug-Free Ashley County Coalition is inviting you to a scheduled Zoom meeting.  To join the Zoom Meeting\, click on the following link:\nhttps://us06web.zoom.us/j/84227958524?pwd=zktBMyKezwveVtlSXDntTYmYcIfaml.1 \nYou can also dial into the audio portion of the meeting at:  3126266799\nMeeting ID: 842 2795 8524\nPasscode: 373152 \n—
URL:https://drugfreeac.org/event/monthly-drug-free-ashley-county-coalition-meeting-3/
LOCATION:UAM College of Technology-Crossett\, 1326 State Highway 52 West\, Crossett\, 71635\, United States
END:VEVENT
END:VCALENDAR