BEGIN:VCALENDAR
VERSION:2.0
PRODID:-//Welcome - ECPv6.15.20//NONSGML v1.0//EN
CALSCALE:GREGORIAN
METHOD:PUBLISH
X-WR-CALNAME:Welcome
X-ORIGINAL-URL:https://drugfreeac.org
X-WR-CALDESC:Events for Welcome
REFRESH-INTERVAL;VALUE=DURATION:PT1H
X-Robots-Tag:noindex
X-PUBLISHED-TTL:PT1H
BEGIN:VTIMEZONE
TZID:America/Chicago
BEGIN:DAYLIGHT
TZOFFSETFROM:-0600
TZOFFSETTO:-0500
TZNAME:CDT
DTSTART:20220313T080000
END:DAYLIGHT
BEGIN:STANDARD
TZOFFSETFROM:-0500
TZOFFSETTO:-0600
TZNAME:CST
DTSTART:20221106T070000
END:STANDARD
BEGIN:DAYLIGHT
TZOFFSETFROM:-0600
TZOFFSETTO:-0500
TZNAME:CDT
DTSTART:20230312T080000
END:DAYLIGHT
BEGIN:STANDARD
TZOFFSETFROM:-0500
TZOFFSETTO:-0600
TZNAME:CST
DTSTART:20231105T070000
END:STANDARD
BEGIN:DAYLIGHT
TZOFFSETFROM:-0600
TZOFFSETTO:-0500
TZNAME:CDT
DTSTART:20240310T080000
END:DAYLIGHT
BEGIN:STANDARD
TZOFFSETFROM:-0500
TZOFFSETTO:-0600
TZNAME:CST
DTSTART:20241103T070000
END:STANDARD
END:VTIMEZONE
BEGIN:VEVENT
DTSTART;TZID=America/Chicago:20230411T160000
DTEND;TZID=America/Chicago:20230411T170000
DTSTAMP:20260424T080820
CREATED:20230327T154836Z
LAST-MODIFIED:20230327T155100Z
UID:127-1681228800-1681232400@drugfreeac.org
SUMMARY:D-FAC Coalition Meeting
DESCRIPTION:Monthly meeting of the Drug-Free Ashley County Coalition.  It will be held at the UAM College of Technology-Crosset\,1326 Highway 52 West\, Crossett\, in the Media Center of the McGoogan Building. \nThe meeting will also be available on Zoom: \nhttps://us06web.zoom.us/j/86491929270?pwd=dTJYTEtrVTBTcCtHYmtzYjNWbXhzQT09 \n 
URL:https://drugfreeac.org/event/d-fac-coalition-meeting/
CATEGORIES:Meetings
END:VEVENT
END:VCALENDAR