BEGIN:VCALENDAR
VERSION:2.0
PRODID:-//Welcome - ECPv6.15.20//NONSGML v1.0//EN
CALSCALE:GREGORIAN
METHOD:PUBLISH
X-ORIGINAL-URL:https://drugfreeac.org
X-WR-CALDESC:Events for Welcome
REFRESH-INTERVAL;VALUE=DURATION:PT1H
X-Robots-Tag:noindex
X-PUBLISHED-TTL:PT1H
BEGIN:VTIMEZONE
TZID:America/Chicago
BEGIN:DAYLIGHT
TZOFFSETFROM:-0600
TZOFFSETTO:-0500
TZNAME:CDT
DTSTART:20220313T080000
END:DAYLIGHT
BEGIN:STANDARD
TZOFFSETFROM:-0500
TZOFFSETTO:-0600
TZNAME:CST
DTSTART:20221106T070000
END:STANDARD
BEGIN:DAYLIGHT
TZOFFSETFROM:-0600
TZOFFSETTO:-0500
TZNAME:CDT
DTSTART:20230312T080000
END:DAYLIGHT
BEGIN:STANDARD
TZOFFSETFROM:-0500
TZOFFSETTO:-0600
TZNAME:CST
DTSTART:20231105T070000
END:STANDARD
BEGIN:DAYLIGHT
TZOFFSETFROM:-0600
TZOFFSETTO:-0500
TZNAME:CDT
DTSTART:20240310T080000
END:DAYLIGHT
BEGIN:STANDARD
TZOFFSETFROM:-0500
TZOFFSETTO:-0600
TZNAME:CST
DTSTART:20241103T070000
END:STANDARD
BEGIN:DAYLIGHT
TZOFFSETFROM:-0600
TZOFFSETTO:-0500
TZNAME:CDT
DTSTART:20250309T080000
END:DAYLIGHT
BEGIN:STANDARD
TZOFFSETFROM:-0500
TZOFFSETTO:-0600
TZNAME:CST
DTSTART:20251102T070000
END:STANDARD
END:VTIMEZONE
BEGIN:VEVENT
DTSTART;TZID=America/Chicago:20240213T160000
DTEND;TZID=America/Chicago:20240213T170000
DTSTAMP:20260423T173553
CREATED:20231218T230747Z
LAST-MODIFIED:20240212T175345Z
UID:646-1707840000-1707843600@drugfreeac.org
SUMMARY:Monthly Drug Free Ashley County Coalition Meeting
DESCRIPTION:Regular monthly meeting of the Drug Free Ashley County Coalition to be  held at the UAM College of Technology-Crossett. \nFor those preferring to ZOOM our meeting\, please use the link below to connect.\n\n\n\n\n\nJoing Drug-Free Ashley County Coalition Zoom Meeting:\n\nhttps://us06web.zoom.us/j/89492206356?pwd=sMyUB0h9HzGfCtri9r7G7OKFzplJQa.1 \nMeeting ID: 894 9220 6356\nPasscode: 688432
URL:https://drugfreeac.org/event/monthly-drug-free-ashley-county-meeting-4/
LOCATION:UAM College of Technology-Crossett\, 1326 State Highway 52 West\, Crossett\, 71635\, United States
END:VEVENT
BEGIN:VEVENT
DTSTART;TZID=America/Chicago:20240124T090000
DTEND;TZID=America/Chicago:20240124T150000
DTSTAMP:20260423T173553
CREATED:20240113T021907Z
LAST-MODIFIED:20240113T021907Z
UID:714-1706086800-1706108400@drugfreeac.org
SUMMARY:Region 5:  Faith-Based Substance Misuse Prevention Conference
DESCRIPTION:Engaging faith-based community\nEquipping with tools and resources \nMental Health First Aid and Narcan Training sessions\n\nFirst United Methodist Church of Crossett\n500 Main Street\nCrossett\, AR
URL:https://drugfreeac.org/event/region-5-faith-based-substance-misuse-prevention-conference/
LOCATION:First Ued Mehodi Church of Cossett\, 500 Main Street\, Crossett\, AR\, 71635\, United States
END:VEVENT
BEGIN:VEVENT
DTSTART;VALUE=DATE:20240111
DTEND;VALUE=DATE:20240112
DTSTAMP:20260423T173553
CREATED:20231204T180335Z
LAST-MODIFIED:20231204T180335Z
UID:638-1704931200-1705017599@drugfreeac.org
SUMMARY:Options\, Inc. Semi-formal Banquet
DESCRIPTION:Options\, Inc. Semi-formal Banquet\, Pauline Baptist Church\, Monticello\, more info: options.inc1989@gmail.com
URL:https://drugfreeac.org/event/options-inc-semi-formal-banquet/
END:VEVENT
BEGIN:VEVENT
DTSTART;TZID=America/Chicago:20240109T160000
DTEND;TZID=America/Chicago:20240109T170000
DTSTAMP:20260423T173553
CREATED:20231204T175757Z
LAST-MODIFIED:20231218T232518Z
UID:636-1704816000-1704819600@drugfreeac.org
SUMMARY:Monthly Drug Free Ashley County Coalition Meeting
DESCRIPTION:Regular monthly meeting of the Drug Free Ashley County Coalition to be  held at the UAM College of Technology-Crossett
URL:https://drugfreeac.org/event/monthly-drug-free-ashley-county-meeting-3/
LOCATION:UAM College of Technology-Crossett\, 1326 State Highway 52 West\, Crossett\, 71635\, United States
END:VEVENT
BEGIN:VEVENT
DTSTART;TZID=America/Chicago:20231218T080000
DTEND;TZID=America/Chicago:20231218T170000
DTSTAMP:20260423T173553
CREATED:20231218T233640Z
LAST-MODIFIED:20231218T233640Z
UID:668-1702886400-1702918800@drugfreeac.org
SUMMARY:Monthly Drug Free Ashley County Coalition Meeting
DESCRIPTION:Regular monthly meeting of the Drug Free Ashley County Coalition to be  held at the UAM College of Technology-Crossett. \nMonthly sponsor speaker – Healthcare sector
URL:https://drugfreeac.org/event/monthly-drug-free-ashley-county-coalition-meeting-6/
LOCATION:UAM College of Technology-Crossett\, 1326 State Highway 52 West\, Crossett\, 71635\, United States
END:VEVENT
BEGIN:VEVENT
DTSTART;TZID=America/Chicago:20231212T160000
DTEND;TZID=America/Chicago:20231212T170000
DTSTAMP:20260423T173553
CREATED:20231023T041721Z
LAST-MODIFIED:20231212T184610Z
UID:588-1702396800-1702400400@drugfreeac.org
SUMMARY:Monthly Drug Free Ashley County Meeting
DESCRIPTION:REMEMBER TO BRING A “SNACK” FOR CHRISTMAS FELLOWSHIP CELEBRATION \nThe program to be provided by the faith-based sector members. Presentation by Faith-Based Sector [Ronnie Donaldson\, Rev Ephraim Johnson\, and Bro Mike Neal] \nVote on new officers who will take over in January.  Members will vote on 2024/5 Officers presented by Nominating Committee [Sherri Hendrix\, Brother Mike Neal & Daniel Shelton\, Jr.] \n\nChairperson: Eric Shoffner [2-year].\nVice Chair/Chair Elect: Bro Mike Neal [2-year]\nSecretary: Christi Carter [1-year]\nTreasurer: Gina Morgan [1-year]\n\nRecognition of previous\, current\, and future Coalition Officers\nContinued discussion of agenda recommendations for 2024\, i.e.\, monthly presentation of each Sector; “Getting to Know our members” – “Christmas Bingo” activity. \nWe will discuss future plans\, and have a fun-filled holiday celebration.  The December F-FAC Holiday Table Event is now a tradition — two years in a row!  If you can’t make it by 4 pm\, come anyway!  Some of us will stay later than our usual 5 pm just to enjoy being together.  You are welcome to bring guests. We even have a few door prizes.  😉
URL:https://drugfreeac.org/event/monthly-drug-free-ashley-county-meeting-2/
LOCATION:UAM College of Technology-Crossett\, 1326 State Highway 52 West\, Crossett\, 71635\, United States
END:VEVENT
BEGIN:VEVENT
DTSTART;TZID=America/Chicago:20231207T090000
DTEND;TZID=America/Chicago:20231207T130000
DTSTAMP:20260423T173553
CREATED:20231124T041918Z
LAST-MODIFIED:20231127T030747Z
UID:623-1701939600-1701954000@drugfreeac.org
SUMMARY:Meth Awareness Conference
DESCRIPTION:Roshunda Davis-Johnson\, Deputy Director\, Phoenix Youth & Family Services extended invitation\nto speak at annual Meth Awareness Conference [12/7/23: 9:00 a.m. – 1:00 p.m.] The conference\nwill focus on efforts and barriers to service delivery for meth prevention. \nHere is the link to register:  Registration Form \nLocation:  Crossett Community Center\, 105 West 2nd Ave\, Crossett\, AR \n  \nHere is the flyer advertising the event:
URL:https://drugfreeac.org/event/meth-awareness-conference/
LOCATION:Crossett Community Center\, 105 W 2nd Ave\, Crossett\, AR\, 71635\, United States
END:VEVENT
BEGIN:VEVENT
DTSTART;TZID=America/Chicago:20231114T160000
DTEND;TZID=America/Chicago:20231114T170000
DTSTAMP:20260423T173553
CREATED:20231023T041249Z
LAST-MODIFIED:20231023T041856Z
UID:586-1699977600-1699981200@drugfreeac.org
SUMMARY:Monthly Drug Free Ashley County Meeting
DESCRIPTION:Meeting to visit and get better acquainted.
URL:https://drugfreeac.org/event/monthly-drug-free-ashley-county-meeting/
LOCATION:UAM College of Technology-Crossett\, 1326 State Highway 52 West\, Crossett\, 71635\, United States
END:VEVENT
BEGIN:VEVENT
DTSTART;TZID=America/Chicago:20231108T080000
DTEND;TZID=America/Chicago:20231108T170000
DTSTAMP:20260423T173553
CREATED:20230913T152919Z
LAST-MODIFIED:20230913T153816Z
UID:516-1699430400-1699462800@drugfreeac.org
SUMMARY:2023 Stop Overdose Summit
DESCRIPTION:Eric Shoffner (Sector Leader for Healthcare Professionals) encouraged everyone who can do so to register and attend the 2023 Stop Overdose Summit.  He and his wife\, Katrina\, have attended most (if not all) of the years the event has been offered by the Arkansas Attorney General. \n\nEric stated that this is one conference where everyone is working collaboratively to address and combat the overdose crisis in our state.  See the description of the five available session tracks below.  This is a one-day conference (8:30 a.m. to 5:00 p.m.)  Carpooling could be arranged\, and we could hang together for meals and breaks. What a great experience we will have getting better acquainted and working together for positive change in our community.  An alarming statistic is that in 2022\, Ashley County was reported to have 30 overdose deaths per capita (that is\, compared to 100\,000 people).  In 2020\, we were actually the #1 county for opioid overdose deaths at 15 per 100\,000.  Two years later\, we have moved to the #5 position of the 75 counties for all overdose deaths.  But moving from 15 per capita to 30 per capita doesn’t sound like improvement.  It is just more tragic.\n\n\nPreviously called the Prescription Drug Summit\, the event is now entitled the Stop Overdose Summit and will be held on Wednesday\, November 8th at the Little Rock Statehouse Convention Center for the 12th annual summit. This event is FREE and open to the public. \nThe Summit features five breakout tracks: \n• Family track – For any family and friends impacted by opioid abuse\n• Education/Prevention track – Educators\, Community coalitions and anyone involved or interested in the education and prevention of opioid abuse\n• Criminal Justice track – Law Enforcement community\n• Counseling/Recovery track – Anyone who is involved in the counseling and recovery field\n• Clinical track – Pharmacists\, Nurses\, Doctors and others in medical field \nRegister today for the event:  https://arkansasag.eventsmart.com/events/2023-stop-overdose-summit/ \nThank you\, Eric\, for sharing this opportunity for training with our Coalition!
URL:https://drugfreeac.org/event/2023-stop-overdose-summit/
LOCATION:Little Rock Statehouse Covention Center\, 101 E Markham St\, Little Rock\, AR\, 72201\, United States
END:VEVENT
BEGIN:VEVENT
DTSTART;VALUE=DATE:20231028
DTEND;VALUE=DATE:20231029
DTSTAMP:20260423T173553
CREATED:20231007T033856Z
LAST-MODIFIED:20231007T033856Z
UID:572-1698451200-1698537599@drugfreeac.org
SUMMARY:Arkansas Take Back Day
DESCRIPTION:Volunteers needed from 10 am – 2 pm at Crossett Gammel’s Pharmacy\, Hamburg Police Department\, and Wilmot Community Center [Crossett Baker’s Pharmacy is a permanent TakeBack location but is available on Saturday\, October 28 only from 9 am- 12 pm.]
URL:https://drugfreeac.org/event/arkansas-take-back-day/
END:VEVENT
BEGIN:VEVENT
DTSTART;VALUE=DATE:20231023
DTEND;VALUE=DATE:20231101
DTSTAMP:20260423T173553
CREATED:20231007T033751Z
LAST-MODIFIED:20231007T034017Z
UID:570-1698019200-1698796799@drugfreeac.org
SUMMARY:Red Ribbon Week
DESCRIPTION:Activities planned for both districts
URL:https://drugfreeac.org/event/rec-ribbon-week/
END:VEVENT
BEGIN:VEVENT
DTSTART;VALUE=DATE:20231023
DTEND;VALUE=DATE:20231024
DTSTAMP:20260423T173553
CREATED:20231007T033638Z
LAST-MODIFIED:20231007T033638Z
UID:568-1698019200-1698105599@drugfreeac.org
SUMMARY:Naloxone Training - Crossett
DESCRIPTION:
URL:https://drugfreeac.org/event/naloxone-training-crossett/
END:VEVENT
BEGIN:VEVENT
DTSTART;VALUE=DATE:20231018
DTEND;VALUE=DATE:20231019
DTSTAMP:20260423T173553
CREATED:20231007T033543Z
LAST-MODIFIED:20231007T033543Z
UID:566-1697587200-1697673599@drugfreeac.org
SUMMARY:Robert Hold and DFAC Staff Meetings with Focus Groups
DESCRIPTION:Robert Holt and DFAC Staff meet with Hamburg and Crossett Student Focus Groups
URL:https://drugfreeac.org/event/robert-hold-and-dfac-staff-meetings-with-focus-groups/
END:VEVENT
BEGIN:VEVENT
DTSTART;VALUE=DATE:20231016
DTEND;VALUE=DATE:20231017
DTSTAMP:20260423T173553
CREATED:20231007T033432Z
LAST-MODIFIED:20231007T033432Z
UID:564-1697414400-1697500799@drugfreeac.org
SUMMARY:Naloxone Training - Hamburg
DESCRIPTION:
URL:https://drugfreeac.org/event/naloxone-training-hamburg/
END:VEVENT
BEGIN:VEVENT
DTSTART;VALUE=DATE:20231014
DTEND;VALUE=DATE:20231015
DTSTAMP:20260423T173553
CREATED:20231007T033333Z
LAST-MODIFIED:20231007T033333Z
UID:562-1697241600-1697327999@drugfreeac.org
SUMMARY:Wiggins Cabin Festival
DESCRIPTION:D-FAC will have an informational table; volunteers needed
URL:https://drugfreeac.org/event/wiggins-cabin-festival/
END:VEVENT
BEGIN:VEVENT
DTSTART;TZID=America/Chicago:20231010T160000
DTEND;TZID=America/Chicago:20231010T170000
DTSTAMP:20260423T173553
CREATED:20231004T211616Z
LAST-MODIFIED:20231010T033114Z
UID:541-1696953600-1696957200@drugfreeac.org
SUMMARY:Monthly Drug Free Ashley County Coalition Meeting
DESCRIPTION:We will have our monthly coalition meeting next Tuesday October10.  We will recognize Youth  and we are asking that you bring a youth with you to the meeting.  We will serve Ice Cream with all the toppings as well as other goodies.  We will view a short video about youth  peer pressure.  Please make plans to attend the meeting and bring your youth guests with you. We will hand out tee shirts for those of you that turned in your size.  If you would like to make a donation for them\, we will gladly accept it. We appreciate you all so much and hope to see you Tuesday!\n\nZoom Meeting:\n\nJoin Zoom Meeting\nhttps://us06web.zoom.us/j/81894876649?pwd=6vcOwJCUhSYBJcQzUvJEq6iHfPgdhs.1 \nMeeting ID: 818 9487 6649\nPasscode: 765128 \n—
URL:https://drugfreeac.org/event/monthly-drug-free-ashley-county-coalition-meeting-2/
END:VEVENT
BEGIN:VEVENT
DTSTART;VALUE=DATE:20231010
DTEND;VALUE=DATE:20231011
DTSTAMP:20260423T173553
CREATED:20231007T033028Z
LAST-MODIFIED:20231007T033028Z
UID:560-1696896000-1696982399@drugfreeac.org
SUMMARY:Meerting with Hamburg School District Youth Focus Group
DESCRIPTION:
URL:https://drugfreeac.org/event/meerting-with-hamburg-school-district-youth-focus-group/
END:VEVENT
BEGIN:VEVENT
DTSTART;TZID=America/Chicago:20230926T090000
DTEND;TZID=America/Chicago:20230926T090000
DTSTAMP:20260423T173553
CREATED:20230910T124922Z
LAST-MODIFIED:20230910T130106Z
UID:512-1695718800-1695718800@drugfreeac.org
SUMMARY:Mental Health First Aid Training
DESCRIPTION:This is an invitation from Roshunda Davis-Johnson\, Deputy Director at Phoenix Youth and Family Services.  She said she has about 10 spots still available if you are interested.  The training is very good. Several of us with the Coalition took the course from Mrs. Gibson last year. \nThis is the Flyer with information about the training. \nLocation:  Crossett Community Center\, 105 2. 2nd Ave\, Crossett\, Ar. \nFor more information call:  870-364-1676
URL:https://drugfreeac.org/event/mental-health-first-aid-training/
LOCATION:Crossett Community Center\, 105 W 2nd Ave\, Crossett\, AR\, 71635\, United States
END:VEVENT
BEGIN:VEVENT
DTSTART;TZID=America/Chicago:20230922T110000
DTEND;TZID=America/Chicago:20230922T130000
DTSTAMP:20260423T173553
CREATED:20230907T004436Z
LAST-MODIFIED:20230907T004436Z
UID:490-1695380400-1695387600@drugfreeac.org
SUMMARY:Law Enforcement Appreciation Lunch
DESCRIPTION:Drug Free Ashley County Coalition (D-FAC) is sponsoring a Law Enforcement Appreciation Lunch.  In addition to our appreciation of their service to our communities – we want to transform interactions and relations by moving in a positive direction with alignment between our teens\, parents\, and law enforcement. \nLocation:  Mt. Olive Baptist Church
URL:https://drugfreeac.org/event/law-enforcement-appreciation-lunch/
LOCATION:Mt. Olive Baptist Church\, 1533 State Hwy 52 W\, Crossett\, AR\, 71635\, United States
END:VEVENT
BEGIN:VEVENT
DTSTART;TZID=America/Chicago:20230912T160000
DTEND;TZID=America/Chicago:20230912T170000
DTSTAMP:20260423T173553
CREATED:20230828T164701Z
LAST-MODIFIED:20230828T164701Z
UID:483-1694534400-1694538000@drugfreeac.org
SUMMARY:Drug Free Ashley County Coalition
DESCRIPTION:The monthly meeting for September of the DRUG-FREE ASHLEY COUNTY COALITION at the UAM College\nof Technology\, Crossett\, and via Zoom by Janie Carter.  The Zoom link will be added when it becomes available.
URL:https://drugfreeac.org/event/drug-free-ashley-county-coalition-2/
LOCATION:UAM College of Technology-Crossett\, 1326 State Highway 52 West\, Crossett\, 71635\, United States
END:VEVENT
BEGIN:VEVENT
DTSTART;TZID=America/Chicago:20230808T160000
DTEND;TZID=America/Chicago:20230808T170000
DTSTAMP:20260423T173553
CREATED:20230724T223338Z
LAST-MODIFIED:20230804T230148Z
UID:425-1691510400-1691514000@drugfreeac.org
SUMMARY:Monthly Drug Free Ashly County Coalition Meeting
DESCRIPTION:The next meeting will be at the CTC McGoogan Building.  See this link for more details:  August 8 Agenda
URL:https://drugfreeac.org/event/monthly-drug-free-ashly-county-coalition-meeting/
END:VEVENT
BEGIN:VEVENT
DTSTART;TZID=America/Chicago:20230805T120000
DTEND;TZID=America/Chicago:20230805T180000
DTSTAMP:20260423T173553
CREATED:20230724T224100Z
LAST-MODIFIED:20230724T224805Z
UID:428-1691236800-1691258400@drugfreeac.org
SUMMARY:Back to School Bash
DESCRIPTION:Back to school bash at the Crossett City Park.  Vendors\, Food\, Fun and Games.  Sponsored by the A.C.U.W.L.D. (Ashley County United With Love and Diversity).  Contact Sheena Cooks at 870-500-3884.  View the poster by clicking on the following link: \nBack to School Bash
URL:https://drugfreeac.org/event/back-to-school-bash/
LOCATION:Crossett City Park
END:VEVENT
BEGIN:VEVENT
DTSTART;TZID=America/Chicago:20230711T160000
DTEND;TZID=America/Chicago:20230711T170000
DTSTAMP:20260423T173553
CREATED:20230624T033955Z
LAST-MODIFIED:20230630T145314Z
UID:351-1689091200-1689094800@drugfreeac.org
SUMMARY:Monthly Drug Free Ashley County Coalition Meeting
DESCRIPTION:The location of the meeting will be at the CTC\, McGoogan Building. \nGuest Speaker:  Territha Davidson Reed \nTitle: Crisis Intervention Trainer Coordinator \nAgency: Commission on Law Enforcement Standards and Training (CLEST) \nPresentation Topic: Mental Health Crisis and Public Help \nTerritha is from Hamburg and works as a trainer for law enforcement and communities in crisis intervention.  The D-FAC officers and staff have asked her to speak at our July 11 meeting.  The information she will share will be helpful in building bridges in our community with law enforcement personnel\, youth\, and adults.  We know that mental health issues are definitely intertwined with substance abuse.
URL:https://drugfreeac.org/event/monthly-drug-free-ashley-county-coalition-meeting/
LOCATION:UAM College of Technology-Crossett\, 1326 State Highway 52 West\, Crossett\, 71635\, United States
CATEGORIES:Meetings
END:VEVENT
BEGIN:VEVENT
DTSTART;VALUE=DATE:20230710
DTEND;VALUE=DATE:20230712
DTSTAMP:20260423T173553
CREATED:20230505T222701Z
LAST-MODIFIED:20230702T021408Z
UID:229-1688947200-1689119999@drugfreeac.org
SUMMARY:Youth Marijuana Prevention Conference
DESCRIPTION:2023 Johnny’s Ambassadors Youth Marijuana Prevention Conference.  The payment requirements for registration have clarified.  There will not be a group viewing session paid for by Robert Holt.  Currently\, as of June 30\, 2023\, each participant will be required to pay $149 per person per connection to stream the conference.
URL:https://drugfreeac.org/event/youth-marijuana-prevention/
END:VEVENT
BEGIN:VEVENT
DTSTART;VALUE=DATE:20230619
DTEND;VALUE=DATE:20230620
DTSTAMP:20260423T173553
CREATED:20230517T030703Z
LAST-MODIFIED:20230517T030703Z
UID:319-1687132800-1687219199@drugfreeac.org
SUMMARY:Juneteenth Backyard Bash
DESCRIPTION:Juneteenth and Beyond. Ashley County United With Love & Diversity First annual\nJUNETEENTH BACKYARD BASH – County-wide celebration with family backyard\natmosphere – games for all ages\, healthcare screenings\, representatives from\nNAACP and much more.  (GoFundMe@A.C.U.W.L.D) \n 
URL:https://drugfreeac.org/event/juneteenth-backyard-bash/
ORGANIZER;CN="Sheena Cooks%3A":MAILTO:shennacooksz@yahoo.com
END:VEVENT
BEGIN:VEVENT
DTSTART;TZID=America/Chicago:20230615T090000
DTEND;TZID=America/Chicago:20230615T143000
DTSTAMP:20260423T173553
CREATED:20230510T034756Z
LAST-MODIFIED:20230517T025239Z
UID:291-1686819600-1686839400@drugfreeac.org
SUMMARY:Phoenix Youth and Family Service - Raising the Bar on Prevention Conference
DESCRIPTION:Phoenix Youth and Family Services\, Inc.\, “COMMUNITIES THAT CARE”\, presents the Substance Abuse Prevention Conference.  The guest speaker will be  David Gomez.  The title of his presentation will be “Reclaiming our Future”.  Register for the conference on line at at the Phoenix Youth Regional Prevention Conference.
URL:https://drugfreeac.org/event/reclaiming-our-future/
LOCATION:Crossett Economic Development Center\, 105 W 2nd Ave\, Crossett\, AR\, 71635
END:VEVENT
BEGIN:VEVENT
DTSTART;TZID=America/Chicago:20230613T163000
DTEND;TZID=America/Chicago:20230613T183000
DTSTAMP:20260423T173553
CREATED:20230517T023310Z
LAST-MODIFIED:20230517T023310Z
UID:312-1686673800-1686681000@drugfreeac.org
SUMMARY:Drug-Free Ashley County Coalition
DESCRIPTION:The meeting has been reserved for a training session for Sector Leaders and Officers.  Other members of the Coalition are welcome to attend.
URL:https://drugfreeac.org/event/drug-free-ashley-county-coalition/
LOCATION:UAM College of Technology-Crossett\, 1326 State Highway 52 West\, Crossett\, 71635\, United States
END:VEVENT
BEGIN:VEVENT
DTSTART;VALUE=DATE:20230531
DTEND;VALUE=DATE:20230601
DTSTAMP:20260423T173553
CREATED:20230517T020606Z
LAST-MODIFIED:20230517T020912Z
UID:303-1685491200-1685577599@drugfreeac.org
SUMMARY:World No Tobacco Day
DESCRIPTION:This yearly celebration informs the public on the dangers of using tobacco\, the business practices of tobacco companies\, what the World Health Organization is doing to fight the tobacco epidemic\, and what people around the world can do to claim their right to health and healthy living and to protect future generations. \nThe Member States of the World Health Organization created World No Tobacco Day in 1987 to draw global attention to the tobacco epidemic and the preventable death and disease it causes. In 1987\, the World Health Assembly passed Resolution WHA40.38\, calling for 7 April 1988 to be a “a world no-smoking day.” In 1988\, Resolution WHA42.19 was passed\, calling for the celebration of World No Tobacco Day\, every year on 31 May.
URL:https://drugfreeac.org/event/world-no-tobacco-day/
END:VEVENT
BEGIN:VEVENT
DTSTART;TZID=America/Chicago:20230509T160000
DTEND;TZID=America/Chicago:20230509T170000
DTSTAMP:20260423T173553
CREATED:20230430T033814Z
LAST-MODIFIED:20230430T033814Z
UID:174-1683648000-1683651600@drugfreeac.org
SUMMARY:DFAC Coalition Meeting
DESCRIPTION:
URL:https://drugfreeac.org/event/dfac-coalition-meeting/
LOCATION:UAM College of Technology-Crossett\, 1326 State Highway 52 West\, Crossett\, 71635\, United States
END:VEVENT
BEGIN:VEVENT
DTSTART;TZID=America/Chicago:20230411T160000
DTEND;TZID=America/Chicago:20230411T170000
DTSTAMP:20260423T173553
CREATED:20230327T154836Z
LAST-MODIFIED:20230327T155100Z
UID:127-1681228800-1681232400@drugfreeac.org
SUMMARY:D-FAC Coalition Meeting
DESCRIPTION:Monthly meeting of the Drug-Free Ashley County Coalition.  It will be held at the UAM College of Technology-Crosset\,1326 Highway 52 West\, Crossett\, in the Media Center of the McGoogan Building. \nThe meeting will also be available on Zoom: \nhttps://us06web.zoom.us/j/86491929270?pwd=dTJYTEtrVTBTcCtHYmtzYjNWbXhzQT09 \n 
URL:https://drugfreeac.org/event/d-fac-coalition-meeting/
CATEGORIES:Meetings
END:VEVENT
END:VCALENDAR