BEGIN:VCALENDAR
VERSION:2.0
PRODID:-//Welcome - ECPv6.15.20//NONSGML v1.0//EN
CALSCALE:GREGORIAN
METHOD:PUBLISH
X-WR-CALNAME:Welcome
X-ORIGINAL-URL:https://drugfreeac.org
X-WR-CALDESC:Events for Welcome
REFRESH-INTERVAL;VALUE=DURATION:PT1H
X-Robots-Tag:noindex
X-PUBLISHED-TTL:PT1H
BEGIN:VTIMEZONE
TZID:America/Chicago
BEGIN:DAYLIGHT
TZOFFSETFROM:-0600
TZOFFSETTO:-0500
TZNAME:CDT
DTSTART:20250309T080000
END:DAYLIGHT
BEGIN:STANDARD
TZOFFSETFROM:-0500
TZOFFSETTO:-0600
TZNAME:CST
DTSTART:20251102T070000
END:STANDARD
BEGIN:DAYLIGHT
TZOFFSETFROM:-0600
TZOFFSETTO:-0500
TZNAME:CDT
DTSTART:20260308T080000
END:DAYLIGHT
BEGIN:STANDARD
TZOFFSETFROM:-0500
TZOFFSETTO:-0600
TZNAME:CST
DTSTART:20261101T070000
END:STANDARD
BEGIN:DAYLIGHT
TZOFFSETFROM:-0600
TZOFFSETTO:-0500
TZNAME:CDT
DTSTART:20270314T080000
END:DAYLIGHT
BEGIN:STANDARD
TZOFFSETFROM:-0500
TZOFFSETTO:-0600
TZNAME:CST
DTSTART:20271107T070000
END:STANDARD
END:VTIMEZONE
BEGIN:VEVENT
DTSTART;TZID=America/Chicago:20260512T120000
DTEND;TZID=America/Chicago:20260512T130000
DTSTAMP:20260423T055652
CREATED:20260213T203923Z
LAST-MODIFIED:20260213T204050Z
UID:1461-1778587200-1778590800@drugfreeac.org
SUMMARY:Drug Free Ashley County Coalition Monthly Meeting
DESCRIPTION:The regularly scheduled monthly meeting for March will be held on May 12\, 2026 at 12:00 noon in the Hamburg School District Conference Room. \nInvite Link:  https://us06web.zoom.us/j/86806378211?pwd=8o7M5EhYgMtBTHDuTzYQJY3Y4biCGm.1
URL:https://drugfreeac.org/event/drug-free-ashley-county-coalition-monthly-meeting-2/
LOCATION:Hamburg School Distrit Offices\, 202 E Parker St.\, Hamburg\, AR\, United States
END:VEVENT
BEGIN:VEVENT
DTSTART;TZID=America/Chicago:20260609T160000
DTEND;TZID=America/Chicago:20260609T170000
DTSTAMP:20260423T055652
CREATED:20260213T205113Z
LAST-MODIFIED:20260213T205113Z
UID:1468-1781020800-1781024400@drugfreeac.org
SUMMARY:Drug Free Ashley County Coalition Monthly Meeting
DESCRIPTION:The regularly scheduled monthly meting for the Drug Free Ashley County Coalition will be held on June 9th at 4:00 pm in the Crossett Youth Center. \nInvite Link:  https://us06web.zoom.us/j/86806378211?pwd=8o7M5EhYgMtBTHDuTzYQJY3Y4biCGm.1 \n 
URL:https://drugfreeac.org/event/drug-free-ashley-county-coalition-monthly-meeting-5/
LOCATION:EC Crossett Youth Center\, 300 Dr. Martin Luther King Dr\, Crossett\, AR\, 71635\, United States
END:VEVENT
BEGIN:VEVENT
DTSTART;TZID=America/Chicago:20260714T120000
DTEND;TZID=America/Chicago:20260714T130000
DTSTAMP:20260423T055652
CREATED:20260213T204437Z
LAST-MODIFIED:20260213T204720Z
UID:1464-1784030400-1784034000@drugfreeac.org
SUMMARY:Drug Free Ashley County Coalition Monthly Meeting
DESCRIPTION:The regularly scheduled monthly meeting for March will be held on July 14\, 2026 at 12:00 noon in the Hamburg School District Conference Room. \nInvite Link:  https://us06web.zoom.us/j/86806378211?pwd=8o7M5EhYgMtBTHDuTzYQJY3Y4biCGm.1
URL:https://drugfreeac.org/event/drug-free-ashley-county-coalition-monthly-meeting-3/
LOCATION:Hamburg School Distrit Offices\, 202 E Parker St.\, Hamburg\, AR\, United States
END:VEVENT
END:VCALENDAR