BEGIN:VCALENDAR
VERSION:2.0
PRODID:-//Welcome - ECPv6.15.20//NONSGML v1.0//EN
CALSCALE:GREGORIAN
METHOD:PUBLISH
X-ORIGINAL-URL:https://drugfreeac.org
X-WR-CALDESC:Events for Welcome
REFRESH-INTERVAL;VALUE=DURATION:PT1H
X-Robots-Tag:noindex
X-PUBLISHED-TTL:PT1H
BEGIN:VTIMEZONE
TZID:America/Chicago
BEGIN:DAYLIGHT
TZOFFSETFROM:-0600
TZOFFSETTO:-0500
TZNAME:CDT
DTSTART:20250309T080000
END:DAYLIGHT
BEGIN:STANDARD
TZOFFSETFROM:-0500
TZOFFSETTO:-0600
TZNAME:CST
DTSTART:20251102T070000
END:STANDARD
BEGIN:DAYLIGHT
TZOFFSETFROM:-0600
TZOFFSETTO:-0500
TZNAME:CDT
DTSTART:20260308T080000
END:DAYLIGHT
BEGIN:STANDARD
TZOFFSETFROM:-0500
TZOFFSETTO:-0600
TZNAME:CST
DTSTART:20261101T070000
END:STANDARD
BEGIN:DAYLIGHT
TZOFFSETFROM:-0600
TZOFFSETTO:-0500
TZNAME:CDT
DTSTART:20270314T080000
END:DAYLIGHT
BEGIN:STANDARD
TZOFFSETFROM:-0500
TZOFFSETTO:-0600
TZNAME:CST
DTSTART:20271107T070000
END:STANDARD
END:VTIMEZONE
BEGIN:VEVENT
DTSTART;VALUE=DATE:20260206
DTEND;VALUE=DATE:20260207
DTSTAMP:20260423T142708
CREATED:20260203T020725Z
LAST-MODIFIED:20260203T020725Z
UID:1440-1770336000-1770422399@drugfreeac.org
SUMMARY:Third Annual Youth Summit
DESCRIPTION:The Third Annual Youth Summit will be held at the Roc in Hamburg on Feb. 6th\, and students from the leadership teams of both Hamburg and Crossett will gather for a day of fun and information on the dangers of drugs. This is an important event and one that the kids enjoy. By bringing them together\, the youth get a sense of feeling that they are a part of something important.  We continue to work to make a difference in the lives of our youth.
URL:https://drugfreeac.org/event/third-annual-youth-summit/
LOCATION:AR
END:VEVENT
END:VCALENDAR