BEGIN:VCALENDAR
VERSION:2.0
PRODID:-//Welcome - ECPv6.15.20//NONSGML v1.0//EN
CALSCALE:GREGORIAN
METHOD:PUBLISH
X-WR-CALNAME:Welcome
X-ORIGINAL-URL:https://drugfreeac.org
X-WR-CALDESC:Events for Welcome
REFRESH-INTERVAL;VALUE=DURATION:PT1H
X-Robots-Tag:noindex
X-PUBLISHED-TTL:PT1H
BEGIN:VTIMEZONE
TZID:America/Chicago
BEGIN:DAYLIGHT
TZOFFSETFROM:-0600
TZOFFSETTO:-0500
TZNAME:CDT
DTSTART:20240310T080000
END:DAYLIGHT
BEGIN:STANDARD
TZOFFSETFROM:-0500
TZOFFSETTO:-0600
TZNAME:CST
DTSTART:20241103T070000
END:STANDARD
BEGIN:DAYLIGHT
TZOFFSETFROM:-0600
TZOFFSETTO:-0500
TZNAME:CDT
DTSTART:20250309T080000
END:DAYLIGHT
BEGIN:STANDARD
TZOFFSETFROM:-0500
TZOFFSETTO:-0600
TZNAME:CST
DTSTART:20251102T070000
END:STANDARD
BEGIN:DAYLIGHT
TZOFFSETFROM:-0600
TZOFFSETTO:-0500
TZNAME:CDT
DTSTART:20260308T080000
END:DAYLIGHT
BEGIN:STANDARD
TZOFFSETFROM:-0500
TZOFFSETTO:-0600
TZNAME:CST
DTSTART:20261101T070000
END:STANDARD
END:VTIMEZONE
BEGIN:VEVENT
DTSTART;TZID=America/Chicago:20251201T090000
DTEND;TZID=America/Chicago:20251201T100000
DTSTAMP:20260423T172529
CREATED:20251126T220620Z
LAST-MODIFIED:20251130T041956Z
UID:1338-1764579600-1764583200@drugfreeac.org
SUMMARY:Laura Stack Assemblies - Hamburg High School
DESCRIPTION:Laura Stack to Host Assemblies on Dangers of High-Potency Marijuana Products for Youth in Ashley County at the Hamburg High School auditorium.  For more information\, click on this link:   press release. \nTo directly access the press release\, click on the menu item: “Posts”\, then click on either the “Parents” or the “Educators” category.  Then scroll down to find the press release for Laura Stack.
URL:https://drugfreeac.org/event/laura-stack-assemblies/
LOCATION:AR
END:VEVENT
BEGIN:VEVENT
DTSTART;TZID=America/Chicago:20251201T104500
DTEND;TZID=America/Chicago:20251201T114500
DTSTAMP:20260423T172529
CREATED:20251126T221131Z
LAST-MODIFIED:20251130T041859Z
UID:1343-1764585900-1764589500@drugfreeac.org
SUMMARY:Laura Stack Assemblies – Crossett High School
DESCRIPTION:Laura Stack to Host Assemblies on Dangers of High-Potency Marijuana Products for Youth in Ashley County at the Crossett High School auditorium.  For more information\, click on this link:   press release. \nTo directly access the press release\, click on the menu item: “Posts”\, then click on either the “Parents” or the “Educators” category.  Then scroll down to find the press release for Laura Stack.
URL:https://drugfreeac.org/event/laura-stack-assemblies-crossett-high-school/
LOCATION:AR
END:VEVENT
END:VCALENDAR