BEGIN:VCALENDAR
VERSION:2.0
PRODID:-//Welcome - ECPv6.15.20//NONSGML v1.0//EN
CALSCALE:GREGORIAN
METHOD:PUBLISH
X-ORIGINAL-URL:https://drugfreeac.org
X-WR-CALDESC:Events for Welcome
REFRESH-INTERVAL;VALUE=DURATION:PT1H
X-Robots-Tag:noindex
X-PUBLISHED-TTL:PT1H
BEGIN:VTIMEZONE
TZID:America/Chicago
BEGIN:DAYLIGHT
TZOFFSETFROM:-0600
TZOFFSETTO:-0500
TZNAME:CDT
DTSTART:20230312T080000
END:DAYLIGHT
BEGIN:STANDARD
TZOFFSETFROM:-0500
TZOFFSETTO:-0600
TZNAME:CST
DTSTART:20231105T070000
END:STANDARD
BEGIN:DAYLIGHT
TZOFFSETFROM:-0600
TZOFFSETTO:-0500
TZNAME:CDT
DTSTART:20240310T080000
END:DAYLIGHT
BEGIN:STANDARD
TZOFFSETFROM:-0500
TZOFFSETTO:-0600
TZNAME:CST
DTSTART:20241103T070000
END:STANDARD
BEGIN:DAYLIGHT
TZOFFSETFROM:-0600
TZOFFSETTO:-0500
TZNAME:CDT
DTSTART:20250309T080000
END:DAYLIGHT
BEGIN:STANDARD
TZOFFSETFROM:-0500
TZOFFSETTO:-0600
TZNAME:CST
DTSTART:20251102T070000
END:STANDARD
END:VTIMEZONE
BEGIN:VEVENT
DTSTART;TZID=America/Chicago:20241026T100000
DTEND;TZID=America/Chicago:20241026T140000
DTSTAMP:20260424T134615
CREATED:20240924T171510Z
LAST-MODIFIED:20241024T014839Z
UID:949-1729936800-1729951200@drugfreeac.org
SUMMARY:AR Take Back Day
DESCRIPTION:AR Take Back Day. Need volunteers \n\nAshley County Take Back Locations – 10:00 am to 2:00 pm: \n\n\n\n\n\nCrossett Police Department\n\n\n\nGammel’s Clinic Pharmacy\n\n\n\nHamburg Police Department\n\n\n\nWilmont Community Center (the old school building)\n\n\nFor more information\, go to the Saturday is Drug Take Back Day post on this website.
URL:https://drugfreeac.org/event/ar-take-back-day/
LOCATION:AR
END:VEVENT
END:VCALENDAR