BEGIN:VCALENDAR
VERSION:2.0
PRODID:-//Welcome - ECPv6.15.20//NONSGML v1.0//EN
CALSCALE:GREGORIAN
METHOD:PUBLISH
X-WR-CALNAME:Welcome
X-ORIGINAL-URL:https://drugfreeac.org
X-WR-CALDESC:Events for Welcome
REFRESH-INTERVAL;VALUE=DURATION:PT1H
X-Robots-Tag:noindex
X-PUBLISHED-TTL:PT1H
BEGIN:VTIMEZONE
TZID:America/Chicago
BEGIN:DAYLIGHT
TZOFFSETFROM:-0600
TZOFFSETTO:-0500
TZNAME:CDT
DTSTART:20230312T080000
END:DAYLIGHT
BEGIN:STANDARD
TZOFFSETFROM:-0500
TZOFFSETTO:-0600
TZNAME:CST
DTSTART:20231105T070000
END:STANDARD
BEGIN:DAYLIGHT
TZOFFSETFROM:-0600
TZOFFSETTO:-0500
TZNAME:CDT
DTSTART:20240310T080000
END:DAYLIGHT
BEGIN:STANDARD
TZOFFSETFROM:-0500
TZOFFSETTO:-0600
TZNAME:CST
DTSTART:20241103T070000
END:STANDARD
BEGIN:DAYLIGHT
TZOFFSETFROM:-0600
TZOFFSETTO:-0500
TZNAME:CDT
DTSTART:20250309T080000
END:DAYLIGHT
BEGIN:STANDARD
TZOFFSETFROM:-0500
TZOFFSETTO:-0600
TZNAME:CST
DTSTART:20251102T070000
END:STANDARD
END:VTIMEZONE
BEGIN:VEVENT
DTSTART;TZID=America/Chicago:20240417T100000
DTEND;TZID=America/Chicago:20240417T140000
DTSTAMP:20260424T223214
CREATED:20240320T025721Z
LAST-MODIFIED:20240320T030922Z
UID:812-1713348000-1713362400@drugfreeac.org
SUMMARY:Mental Health First Aid Training
DESCRIPTION:There is an upcoming training session available to D-FAC Coalition members.  It is sponsored by the Arkansas Rural Health Partnership\, and the trainer is Danielle Gibson.   The training will consist of 2 hours of prerequisite training online and four hours of face-to-face training with Ms. Gibson.\n\n\nPlease let Janie Carter know if you would like to attend this training.  It is excellent and helps lay persons understand more about signs and symptoms of mental health issues as well as how to refer individuals for whom concern is merited.\n\n\nAdditional training information:  Mental Health First Aid\n\nThe training is scheduled for:\nDATE:  Wednesday\, April 17\nTIME:  10 am to 2 pm\nPLACE:  First Baptist Church\, 203 E. Parker St.\, Hamburg\, AR\n\nContact Janie Carter to sign up for the training session:  carterdfc@gmail.com\n\nPlease RSVP by March 29 in order to have adequate time to complete your prerequisite requirements.\n\nWe must have contact information to include your phone number and an email address in order to get you registered.
URL:https://drugfreeac.org/event/mental-health-first-aid-training-2/
LOCATION:AR
END:VEVENT
END:VCALENDAR